Workbook

Sheet Лист1
G1: Приложение к постановлению Администрации городского округа Жуковский от «___» ________2023 г. №________
F2: Приложение 1 к постановлению
F3: Администрации городского округа Жуковский
D4: от 20.10.2026 №1343
A7: «1. Паспорт муниципальной программы городского округа Жуковский «Развитие инженерной инфраструктуры и энергоэффективности»
A8: Координатор муниципальной программы | B8: Заместитель Главы городского округа Жуковский Колесников И.В.
A9: Муниципальный заказчик муниципальной программы | B9: Управление жилищно-коммунального хозяйства Администрации городского округа Жуковский
A10: Цели муниципальной программы | B10: 1. Развитие инженерной инфраструктуры систем водоснабжения, водоотведения, очистки сточных вод, теплоснабжения
B11: 2. Повышение условий для обеспечения качественными коммунальными услугами
B12: 3. Повышение энергетической эффективности жилищного фонда, муниципальных учреждений по исполнению требований Федерального закона от 23.11.2009 № 261-ФЗ
B13: 4. Создание условий для повышения эффективности работы организаций жилищно-коммунального хозяйства
A14: Перечень подпрограмм | B14: Ответственные исполнители подпрограмм
A15: 1. «Чистая вода» | B15: Управление жилищно-коммунального хозяйства Администрации городского округа Жуковский
A16: 2. «Системы водоотведения» | B16: Управление жилищно-коммунального хозяйства Администрации городского округа Жуковский
A17: 3. «Объекты теплоснабжения, инженерные коммуникации» | B17: Управление жилищно-коммунального хозяйства Администрации городского округа Жуковский
A18: 5. «Энергосбережение и повышение энергетической эффективности» | B18: Управление жилищно-коммунального хозяйства Администрации городского округа Жуковский
A19: 6. «Развитие газификации, топливозаправочного комплекса и электроэнергетики» | B19: Управление жилищно-коммунального хозяйства Администрации городского округа Жуковский
A20: 7. «Обеспечивающая подпрограмма» | B20: Управление жилищно-коммунального хозяйства Администрации городского округа Жуковский
A21: 8. «Реализация полномочий в сфере жилищно-коммунального хозяйства» | B21: Управление жилищно-коммунального хозяйства Администрации городского округа Жуковский
A22: Краткая характеристика подпрограмм | B22: 1. Реализация мероприятий позволит повысить качество питьевого водоснабжения, снизит аварийность на объектах водоснабжения, потери энергоресурсов, а также удельный расход электрической энергии
B23: 2. Реализация мероприятий позволит повысить надежность централизованной системы водоотведения, сократить загрязнения сточных вод, сбрасываемых в р. Москва
B24: 3. Реализация мероприятий направлена на повышение условий для обеспечения качественными коммунальными услугами жителей за счет строительства, реконструкции, капитального ремонта объектов теплоснабжения, в том числе сетей участков водоснабжения, водоотведения, теплоснабжения на территории городского округа Жуковский
B25: 4. Реализация мероприятий направлена на обеспечение рационального потребления топливно-энергетических ресурсов на территории городского округа Жуковский, соблюдение требований энергетической эффективности зданий, строений, сооружений муниципальной собственности, а также жилищного фонда Московской области
B26: 5. Реализация мероприятий направлена на организацию работ по газоснабжению населения в границах городского округа Жуковский
B27: 6. Реализация мероприятий направлена на обеспечение деятельности муниципальных учреждений в сфере жилищно-коммунального хозяйства
B28: 7. Реализация мероприятий направлена на повышение эффективности работы в сфере контроля за соблюдением гражданами требований Правил пользования газом
A29: Источники финансирования муниципальной программы, в том числе по годам: | B29: Расходы (тыс. рублей)
B30: Всего | C30: 2026 год | D30: 2027 год | E30: 2028 год | F30: 2029 год | G30: 2030 год
A31: Средства бюджета Московской области | B31: =SUM(C31:G31) -> 10441112 | C31: =[1]ПП1!F51+[1]ПП2!F87+[1]ПП3!F158+'[1] ПП6-не изм'!F28+'[1] ПП5'!G137+'[1] ПП7-не изм'!F27+'[1] ПП8'!F59 -> 170705.28 | D31: =[1]ПП1!K51+[1]ПП2!K87+[1]ПП3!K158+'[1] ПП6-не изм'!G28+'[1] ПП5'!L137+'[1] ПП7-не изм'!G27+'[1] ПП8'!K59 -> 1534920.2 | E31: =[1]ПП1!L51+[1]ПП2!L87+[1]ПП3!L158+'[1] ПП6-не изм'!H28+'[1] ПП5'!M137+'[1] ПП7-не изм'!H27+'[1] ПП8'!L59 -> 4445320.8 | F31: =[1]ПП1!M51+[1]ПП2!M87+[1]ПП3!M158+'[1] ПП6-не изм'!I28+'[1] ПП5'!N137+'[1] ПП7-не изм'!I27+'[1] ПП8'!M59 -> 4139365.7 | G31: =[1]ПП1!N51+[1]ПП2!N87+[1]ПП3!N158+'[1] ПП6-не изм'!J28+'[1] ПП5'!O137+'[1] ПП7-не изм'!J27+'[1] ПП8'!N59 -> 150800
A32: Средства федерального бюджета | B32: =SUM(C32:G32) -> 0 | C32: =[1]ПП1!F52+[1]ПП2!F88+[1]ПП3!F159+'[1] ПП6-не изм'!F29+'[1] ПП5'!G138+'[1] ПП7-не изм'!F28+'[1] ПП8'!F60 -> 0 | D32: =[1]ПП1!K52+[1]ПП2!K88+[1]ПП3!K159+'[1] ПП6-не изм'!G29+'[1] ПП5'!L138+'[1] ПП7-не изм'!G28+'[1] ПП8'!K60 -> 0 | E32: =[1]ПП1!L52+[1]ПП2!L88+[1]ПП3!L159+'[1] ПП6-не изм'!H29+'[1] ПП5'!M138+'[1] ПП7-не изм'!H28+'[1] ПП8'!L60 -> 0 | F32: =[1]ПП1!M52+[1]ПП2!M88+[1]ПП3!M159+'[1] ПП6-не изм'!I29+'[1] ПП5'!N138+'[1] ПП7-не изм'!I28+'[1] ПП8'!M60 -> 0 | G32: =[1]ПП1!N52+[1]ПП2!N88+[1]ПП3!N159+'[1] ПП6-не изм'!J29+'[1] ПП5'!O138+'[1] ПП7-не изм'!J28+'[1] ПП8'!N60 -> 0
A33: Средства бюджета городского округа Жуковский | B33: =SUM(C33:G33) -> 3710757.8 | C33: =[1]ПП1!F53+[1]ПП2!F89+[1]ПП3!F160+'[1] ПП6-не изм'!F30+'[1] ПП5'!G139+'[1] ПП7-не изм'!F29+'[1] ПП8'!F61 -> 353501.26 | D33: =[1]ПП1!K53+[1]ПП2!K89+[1]ПП3!K160+'[1] ПП6-не изм'!G30+'[1] ПП5'!L139+'[1] ПП7-не изм'!G29+'[1] ПП8'!K61 -> 488067.58 | E33: =[1]ПП1!L53+[1]ПП2!L89+[1]ПП3!L160+'[1] ПП6-не изм'!H30+'[1] ПП5'!M139+'[1] ПП7-не изм'!H29+'[1] ПП8'!L61 -> 1436908.4 | F33: =[1]ПП1!M53+[1]ПП2!M89+[1]ПП3!M160+'[1] ПП6-не изм'!I30+'[1] ПП5'!N139+'[1] ПП7-не изм'!I29+'[1] ПП8'!M61 -> 1381280.6 | G33: =[1]ПП1!N53+[1]ПП2!N89+[1]ПП3!N160+'[1] ПП6-не изм'!J30+'[1] ПП5'!O139+'[1] ПП7-не изм'!J29+'[1] ПП8'!N61 -> 51000
A34: Внебюджетные источники | B34: =SUM(C34:G34) -> 0 | C34: =[1]ПП1!F54+[1]ПП2!F90+[1]ПП3!F161+'[1] ПП6-не изм'!F31+'[1] ПП5'!G140+'[1] ПП7-не изм'!F30+'[1] ПП8'!F62 -> 0 | D34: =[1]ПП1!K54+[1]ПП2!K90+[1]ПП3!K161+'[1] ПП6-не изм'!G31+'[1] ПП5'!L140+'[1] ПП7-не изм'!G30+'[1] ПП8'!K62 -> 0 | E34: =[1]ПП1!L54+[1]ПП2!L90+[1]ПП3!L161+'[1] ПП6-не изм'!H31+'[1] ПП5'!M140+'[1] ПП7-не изм'!H30+'[1] ПП8'!L62 -> 0 | F34: =[1]ПП1!M54+[1]ПП2!M90+[1]ПП3!M161+'[1] ПП6-не изм'!I31+'[1] ПП5'!N140+'[1] ПП7-не изм'!I30+'[1] ПП8'!M62 -> 0 | G34: =[1]ПП1!N54+[1]ПП2!N90+[1]ПП3!N161+'[1] ПП6-не изм'!J31+'[1] ПП5'!O140+'[1] ПП7-не изм'!J30+'[1] ПП8'!N62 -> 0
A35: Всего, в том числе по годам: | B35: =SUM(C35:G35) -> 14151870 | C35: =SUM(C31:C34) -> 524206.54 | D35: =SUM(D31:D34) -> 2022987.8 | E35: =SUM(E31:E34) -> 5882229.2 | F35: =SUM(F31:F34) -> 5520646.2 | G35: =SUM(G31:G34) -> 201800
G36: »
